BEGIN:VCALENDAR
VERSION:2.0
PRODID:-//Humber Energy Skills Training Academy - ECPv6.15.20//NONSGML v1.0//EN
CALSCALE:GREGORIAN
METHOD:PUBLISH
X-ORIGINAL-URL:https://humberenergy.co.uk
X-WR-CALDESC:Events for Humber Energy Skills Training Academy
REFRESH-INTERVAL;VALUE=DURATION:PT1H
X-Robots-Tag:noindex
X-PUBLISHED-TTL:PT1H
BEGIN:VTIMEZONE
TZID:UTC
BEGIN:STANDARD
TZOFFSETFROM:+0000
TZOFFSETTO:+0000
TZNAME:UTC
DTSTART:20250101T000000
END:STANDARD
END:VTIMEZONE
BEGIN:VEVENT
DTSTART;TZID=UTC:20260617T163000
DTEND;TZID=UTC:20260617T183000
DTSTAMP:20260421T101407
CREATED:20250911T155143Z
LAST-MODIFIED:20260226T165056Z
UID:10000003-1781713800-1781721000@humberenergy.co.uk
SUMMARY:HESTA Open Event
DESCRIPTION:The Humber Energy Skills Training Academy support the delivery of sustainable solutions to the energy industry\, offering both FE courses and apprenticeships. \nOur full campus will be open\, we will be offering tours and activities in our workshops and classrooms. \nWhere are We: follow this link How to find us
URL:https://humberenergy.co.uk/event/hesta-open-event-17-june-2026/
LOCATION:Humber Energy Skills Training Academy\, Airco House\, Goulton Street\, Hull\, HU3 4DL\, United Kingdom
CATEGORIES:Open Events
ATTACH;FMTTYPE=image/jpeg:https://humberenergy.co.uk/wp-content/uploads/2025/09/Website-HESTA-Open-Event-17th-June-2026.jpg
END:VEVENT
END:VCALENDAR